BEGIN:VCALENDAR
VERSION:2.0
PRODID:-//Eugenia Cheng - ECPv6.2.0.1//NONSGML v1.0//EN
CALSCALE:GREGORIAN
METHOD:PUBLISH
X-WR-CALNAME:Eugenia Cheng
X-ORIGINAL-URL:https://eugeniacheng.com
X-WR-CALDESC:Events for Eugenia Cheng
REFRESH-INTERVAL;VALUE=DURATION:PT1H
X-Robots-Tag:noindex
X-PUBLISHED-TTL:PT1H
BEGIN:VTIMEZONE
TZID:America/Los_Angeles
BEGIN:DAYLIGHT
TZOFFSETFROM:-0800
TZOFFSETTO:-0700
TZNAME:PDT
DTSTART:20220313T100000
END:DAYLIGHT
BEGIN:STANDARD
TZOFFSETFROM:-0700
TZOFFSETTO:-0800
TZNAME:PST
DTSTART:20221106T090000
END:STANDARD
TZID:Europe/London
BEGIN:DAYLIGHT
TZOFFSETFROM:+0000
TZOFFSETTO:+0100
TZNAME:BST
DTSTART:20220327T010000
END:DAYLIGHT
BEGIN:STANDARD
TZOFFSETFROM:+0100
TZOFFSETTO:+0000
TZNAME:GMT
DTSTART:20221030T010000
END:STANDARD
TZID:America/Chicago
BEGIN:DAYLIGHT
TZOFFSETFROM:-0600
TZOFFSETTO:-0500
TZNAME:CDT
DTSTART:20220313T080000
END:DAYLIGHT
BEGIN:STANDARD
TZOFFSETFROM:-0500
TZOFFSETTO:-0600
TZNAME:CST
DTSTART:20221106T070000
END:STANDARD
TZID:America/Denver
BEGIN:DAYLIGHT
TZOFFSETFROM:-0700
TZOFFSETTO:-0600
TZNAME:MDT
DTSTART:20220313T090000
END:DAYLIGHT
BEGIN:STANDARD
TZOFFSETFROM:-0600
TZOFFSETTO:-0700
TZNAME:MST
DTSTART:20221106T080000
END:STANDARD
END:VTIMEZONE
BEGIN:VEVENT
DTSTART;TZID=America/Los_Angeles:20221001T123000
DTEND;TZID=America/Los_Angeles:20221001T133000
DTSTAMP:20260426T043920
CREATED:20220928T235540Z
LAST-MODIFIED:20220928T235540Z
UID:55683-1664627400-1664631000@eugeniacheng.com
SUMMARY:Talk\, Closing Session at NCTM - Los Angeles
DESCRIPTION:NCTM Annual Meeting and Exposition\nOne Mathematics\, Many Voices:\nSharing Our Collective Stories of Rehumanizing\nMathematics Teaching and Learning\n\n\n\nClosing Session: The Art of Logic in an Illogical World\nSaturday\, October 1\, 2022\n12:30 – 1:30 PM PT \nFor thousands of years\, mathematicians have used the timeless art of logic to see the world more clearly. I will show how mathematics can help us address the divisive arguments all around us today. Taking a careful scalpel to politics\, privilege\, sexism and other real-world situations\, I will show how math can help us find clarity without losing nuance. \nSpeaker: Eugenia Cheng\, PhD\, School of the Art Institute of Chicago\, Illinois
URL:https://eugeniacheng.com/event/talk-closing-session-at-nctm-los-angeles/
CATEGORIES:Talks
END:VEVENT
BEGIN:VEVENT
DTSTART;TZID=Europe/London:20221008T115500
DTEND;TZID=Europe/London:20221008T115500
DTSTAMP:20260426T043920
CREATED:20220929T000203Z
LAST-MODIFIED:20220929T000912Z
UID:55685-1665230100-1665230100@eugeniacheng.com
SUMMARY:Talk\, New Scientist Live - London
DESCRIPTION:from the host website: \n\nThe joy of abstraction\n Universe Stage\n\n\nMaths isn’t just about numbers\, equations\, and getting the right answer. In this talk\, based on her new book\, Eugenia Cheng will show how even high-level abstract maths can be accessible\, open-ended\, and joyful. She will introduce category theory\, (abstract mathematics typically only seen by advanced maths students) which she has been teaching to art students for several years. Eugenia brings abstract mathematical ideas down to earth using examples of social justice\, current events\, and everyday life; and will argue that “abstract” doesn’t mean “irrelevant”\, but rather\, that abstract thinking can help us understand urgent issues in the world around us. Abstract also doesn’t have to mean “difficult”: the only prerequisites are curiosity and an open mind about what maths really is.
URL:https://eugeniacheng.com/event/talk-new-scientist-live-london/
CATEGORIES:Talks
END:VEVENT
BEGIN:VEVENT
DTSTART;TZID=America/Chicago:20221013T133000
DTEND;TZID=America/Chicago:20221013T140000
DTSTAMP:20260426T043920
CREATED:20221006T131023Z
LAST-MODIFIED:20221006T131023Z
UID:55854-1665667800-1665669600@eugeniacheng.com
SUMMARY:Book Release\, The Joy of Abstraction - Cambridge University Press
DESCRIPTION:
URL:https://eugeniacheng.com/event/book-release-the-joy-of-abstraction-cambridge-university-press/
CATEGORIES:Other
END:VEVENT
BEGIN:VEVENT
DTSTART;TZID=America/Chicago:20221013T133000
DTEND;TZID=America/Chicago:20221013T143000
DTSTAMP:20260426T043920
CREATED:20221006T131348Z
LAST-MODIFIED:20221006T131348Z
UID:55856-1665667800-1665671400@eugeniacheng.com
SUMMARY:Talk\, The Garden - "Is Maths an Art?"
DESCRIPTION:from the event website: \n\nIs maths an art?\nDr Eugenia Cheng\nWhat jumps to your mind when thinking about creativity? Chances are it wouldn’t be maths. Philosophers\, scientists and mathematicians used creativity to solve seemingly impossible problems. Could maths actually be as creative as the arts?
URL:https://eugeniacheng.com/event/talk-the-garden-is-maths-an-art/
END:VEVENT
BEGIN:VEVENT
DTSTART;TZID=America/Chicago:20221016T160000
DTEND;TZID=America/Chicago:20221016T173000
DTSTAMP:20260426T043920
CREATED:20221006T131758Z
LAST-MODIFIED:20221006T131900Z
UID:55858-1665936000-1665941400@eugeniacheng.com
SUMMARY:Concert\, "First at Four" Series with Nathalie Colas\, soprano
DESCRIPTION:from event website: \n\n\n\nFirst at Four Concert\n\nOctober 16 @ 4:00 pm – 5:30 pm\n\n\n\n\n\nJoin pianist Eugenia Cheng and soprano Nathalie Colas for Mélodies Francaises in the next First at Four (more on that in a minute!) music series concert. Featuring songs by female composers such as Cecile Chaminade\, Nadia Boulanger\, and Pauline Viardot\, these highly acclaimed artists offer an intimate performance style. The concert will be in French\, however French language skills are not required to enjoy this compelling music! \nCheng\, a concert pianist\, will accompany Colas who has been described as a “luminous soprano” with a voice that’s “floating\, silky” and “hypnotic”. Nathalie was born and raised in Strasbourg\, France and is a graduate of DePaul University School of Music and the Brussels Royal Conservatory. She completed her opera training at the Swiss Opera Studio/Hochschule der Kunst Bern\, Switzerland. \nOur very own Christopher Lorimer had this to say\, “I have long been a fan of Nathalie’s\, having known her when she was an undergraduate student. Over the last several years she’s made a name for herself in the Chicago area and beyond due to her incredibly beautiful voice\, charming presence\, interesting programming\, and impeccable musicianship. The congregation was treated to hearing her this past spring when she sang the soprano solos in “The Seven Last Words of Christ.” \nA goodwill offering from the performance will benefit the CROP Hunger Walk\, a nationwide movement sponsored by Church World Service to raise funds to end hunger and poverty in the U.S. and around the world. \nPerformances always take place in the church sanctuary at 25 E Benton Ave\, Naperville\, IL 60540. \nPlease note\, the CROP Hunger Walk is also on October 16 and therefore the performance will be at 4 p.m. (Consider this performance to be First at Four!)
URL:https://eugeniacheng.com/event/concert-first-at-four-series-with-nathalie-colas-soprano/
CATEGORIES:Concerts
END:VEVENT
BEGIN:VEVENT
DTSTART;TZID=America/Denver:20221018T120000
DTEND;TZID=America/Denver:20221018T130000
DTSTAMP:20260426T043920
CREATED:20221006T134411Z
LAST-MODIFIED:20221006T134411Z
UID:55865-1666094400-1666098000@eugeniacheng.com
SUMMARY:Talk\, X + Y - Caltech
DESCRIPTION:more info soon
URL:https://eugeniacheng.com/event/talk-x-y-caltech/
CATEGORIES:Talks
END:VEVENT
BEGIN:VEVENT
DTSTART;TZID=America/Denver:20221019T180000
DTEND;TZID=America/Denver:20221019T210000
DTSTAMP:20260426T043920
CREATED:20221006T132438Z
LAST-MODIFIED:20221006T132438Z
UID:55861-1666202400-1666213200@eugeniacheng.com
SUMMARY:Talk\, "The Square Root of 2 and the Devil in Music" - Caltech Y
DESCRIPTION:from event website: \nTime & Location\n\n\nOct 19\, 6:00 PM – 9:00 PM \nAthenaeum\, 551 S Hill Ave\, Pasadena\, CA 91106\, USA \n\n\n\nAbout The Event\n\n\n\nNo Host Bar 6:00 pm \nDinner 7:00 pm \nSpeaker 8:00 pm \n  \nPlease RSVP by October 10th\, 2022 \nSpace is limited. \n  \nPer Caltech policy\, all guests are required to show proof of COVID-19 vaccination for entry. \nPlease bring vaccination documentation with you to the event. \n— \nThe square root of 2 is one of the great conundrums of mathematics.  So easy to describe but so difficult to pin down! What actually is it?  The devil in music or “diabolo in musica” is the tritone\, and it acquired this nickname because it is the most dissonant of all intervals. With demonstrations on the piano and violin\, Dr.  Cheng will weave these two stories together. We will see how a mathematical understanding of irrational numbers leads to the well-tempered tuning system that inspired Bach to write preludes and fugues in every key (twice) and how the square root of two gives rise to the devil in music. \n  \nDr. Eugenia Cheng is a mathematician\, concert pianist\, and Scientist in Residence at the School of the Art Institute of Chicago. Alongside  her research in Category Theory and undergraduate teaching\, her aim is  to rid the world of “math phobia.” She was an early pioneer of math on YouTube\, and her book\, How to Bake Pi was featured on the Late Show with Stephen Colbert. Her latest book\, X + Y: A  Mathematician’s Manifesto for Rethinking Gender was released in 2020. \n  \nFriends dinners are unique evenings where the Caltech and Pasadena communities come together to engage with world-renowned scientific\,  humanitarian\, and civic leaders. You are receiving this event because you are a Friend of the Caltech Y or a Friend is inviting you. Friends dinners are not fundraising events. Our ticket price covers our cost for the evening.
URL:https://eugeniacheng.com/event/talk-the-square-root-of-2-and-the-devil-in-music-caltech-y/
CATEGORIES:Talks
END:VEVENT
BEGIN:VEVENT
DTSTART;TZID=America/Denver:20221020T190000
DTEND;TZID=America/Denver:20221020T200000
DTSTAMP:20260426T043920
CREATED:20221006T134532Z
LAST-MODIFIED:20221006T134532Z
UID:55867-1666292400-1666296000@eugeniacheng.com
SUMMARY:Talk\, X + Y - Pomona College
DESCRIPTION:more info soon
URL:https://eugeniacheng.com/event/talk-x-y-pomona-college/
CATEGORIES:Talks
END:VEVENT
BEGIN:VEVENT
DTSTART;TZID=America/Denver:20221021T200000
DTEND;TZID=America/Denver:20221021T213000
DTSTAMP:20260426T043920
CREATED:20221006T133634Z
LAST-MODIFIED:20221006T133634Z
UID:55863-1666382400-1666387800@eugeniacheng.com
SUMMARY:Concert\, "Neue Frauenliebe und -leben" - Pomona College
DESCRIPTION:  \nRedefining Woman’s Life and Love features Assistant Professor and soprano Melissa Givens and pianist Eugenia Cheng in Robert Schumann’s Frauenlieben und – leben with a newly-created text by Dr. Cheng\, written from a contemporary woman’s perspective—a recasting from the original text written by Adelbert von Chamisso in 1830 describing the course of a woman’s love for her man. \nThe performers bringing this work to life are Melissa Givens known for thrilling audiences and critics alike and her expressiveness and elegance on the stage. She’s hailed as a singer whose music making is “consistently rewarding” and “a pleasure to hear\,” and Eugenia Cheng\, a pianist\, mathematician\, and founder of the Liederstube who holds three degrees from the University of Cambridge and as a pianist has performed from Seattle’s Town Hall to the Dublin National Concert Hall. \nThe concert is co-sponsored by the Departments of Music and Mathematics and Statistics at Pomona College. \n 
URL:https://eugeniacheng.com/event/concert-neue-frauenliebe-und-leben-pomona-college/
CATEGORIES:Concerts
END:VEVENT
END:VCALENDAR