BEGIN:VCALENDAR
VERSION:2.0
PRODID:-//Eugenia Cheng - ECPv6.2.0.1//NONSGML v1.0//EN
CALSCALE:GREGORIAN
METHOD:PUBLISH
X-WR-CALNAME:Eugenia Cheng
X-ORIGINAL-URL:https://eugeniacheng.com
X-WR-CALDESC:Events for Eugenia Cheng
REFRESH-INTERVAL;VALUE=DURATION:PT1H
X-Robots-Tag:noindex
X-PUBLISHED-TTL:PT1H
BEGIN:VTIMEZONE
TZID:Europe/London
BEGIN:DAYLIGHT
TZOFFSETFROM:+0000
TZOFFSETTO:+0100
TZNAME:BST
DTSTART:20190331T010000
END:DAYLIGHT
BEGIN:STANDARD
TZOFFSETFROM:+0100
TZOFFSETTO:+0000
TZNAME:GMT
DTSTART:20191027T010000
END:STANDARD
END:VTIMEZONE
BEGIN:VEVENT
DTSTART;TZID=Europe/London:20190628T180000
DTEND;TZID=Europe/London:20190628T200000
DTSTAMP:20260424T031513
CREATED:20190830T164835Z
LAST-MODIFIED:20190830T164835Z
UID:55108-1561744800-1561752000@eugeniacheng.com
SUMMARY:Liederstube\, London (Robert Anderson House)
DESCRIPTION:
URL:https://eugeniacheng.com/event/liederstube-london-robert-anderson-house/
LOCATION:IL
CATEGORIES:Liederstube
END:VEVENT
END:VCALENDAR