BEGIN:VCALENDAR
VERSION:2.0
PRODID:-//Eugenia Cheng - ECPv6.2.0.1//NONSGML v1.0//EN
CALSCALE:GREGORIAN
METHOD:PUBLISH
X-WR-CALNAME:Eugenia Cheng
X-ORIGINAL-URL:https://eugeniacheng.com
X-WR-CALDESC:Events for Eugenia Cheng
REFRESH-INTERVAL;VALUE=DURATION:PT1H
X-Robots-Tag:noindex
X-PUBLISHED-TTL:PT1H
BEGIN:VTIMEZONE
TZID:UTC
BEGIN:STANDARD
TZOFFSETFROM:+0000
TZOFFSETTO:+0000
TZNAME:UTC
DTSTART:20190101T000000
END:STANDARD
TZID:America/New_York
BEGIN:DAYLIGHT
TZOFFSETFROM:-0500
TZOFFSETTO:-0400
TZNAME:EDT
DTSTART:20190310T070000
END:DAYLIGHT
BEGIN:STANDARD
TZOFFSETFROM:-0400
TZOFFSETTO:-0500
TZNAME:EST
DTSTART:20191103T060000
END:STANDARD
END:VTIMEZONE
BEGIN:VEVENT
DTSTART;TZID=UTC:20191213T180000
DTEND;TZID=UTC:20191213T210000
DTSTAMP:20260423T164555
CREATED:20190912T144747Z
LAST-MODIFIED:20190912T144747Z
UID:55141-1576260000-1576270800@eugeniacheng.com
SUMMARY:Liederstube\, Chicago
DESCRIPTION:
URL:https://eugeniacheng.com/event/liederstube-chicago-11/
LOCATION:Liederstube\, 410 S Michigan Avenue\, #721\, Chicago\, IL\, 60603\, United States
CATEGORIES:Liederstube
END:VEVENT
BEGIN:VEVENT
DTSTART;TZID=America/New_York:20191219T183000
DTEND;TZID=America/New_York:20191219T213000
DTSTAMP:20260423T164555
CREATED:20191106T025924Z
LAST-MODIFIED:20191106T025924Z
UID:55192-1576780200-1576791000@eugeniacheng.com
SUMMARY:Liederstube\, NYC
DESCRIPTION:12/19\nNational Opera Center\, Mackay Studio\n330 7th Ave\, 7th Floor\, NYC\n6:30 – 9:30
URL:https://eugeniacheng.com/event/liederstube-nyc/
LOCATION:IL
CATEGORIES:Liederstube
END:VEVENT
END:VCALENDAR