BEGIN:VCALENDAR
VERSION:2.0
PRODID:-//Eugenia Cheng - ECPv6.2.0.1//NONSGML v1.0//EN
CALSCALE:GREGORIAN
METHOD:PUBLISH
X-WR-CALNAME:Eugenia Cheng
X-ORIGINAL-URL:https://eugeniacheng.com
X-WR-CALDESC:Events for Eugenia Cheng
REFRESH-INTERVAL;VALUE=DURATION:PT1H
X-Robots-Tag:noindex
X-PUBLISHED-TTL:PT1H
BEGIN:VTIMEZONE
TZID:UTC
BEGIN:STANDARD
TZOFFSETFROM:+0000
TZOFFSETTO:+0000
TZNAME:UTC
DTSTART:20180101T000000
END:STANDARD
TZID:America/Chicago
BEGIN:DAYLIGHT
TZOFFSETFROM:-0600
TZOFFSETTO:-0500
TZNAME:CDT
DTSTART:20180311T080000
END:DAYLIGHT
BEGIN:STANDARD
TZOFFSETFROM:-0500
TZOFFSETTO:-0600
TZNAME:CST
DTSTART:20181104T070000
END:STANDARD
TZID:Europe/London
BEGIN:DAYLIGHT
TZOFFSETFROM:+0000
TZOFFSETTO:+0100
TZNAME:BST
DTSTART:20180325T010000
END:DAYLIGHT
BEGIN:STANDARD
TZOFFSETFROM:+0100
TZOFFSETTO:+0000
TZNAME:GMT
DTSTART:20181028T010000
END:STANDARD
END:VTIMEZONE
BEGIN:VEVENT
DTSTART;TZID=UTC:20181005T170000
DTEND;TZID=UTC:20181005T210000
DTSTAMP:20260424T123749
CREATED:20180908T030403Z
LAST-MODIFIED:20180908T030419Z
UID:54919-1538758800-1538773200@eugeniacheng.com
SUMMARY:Liederstube (Bachstube!) at Grace Lutheran\, River Forest
DESCRIPTION:more info coming soon!
URL:https://eugeniacheng.com/event/liederstube-bachstube-grace-lutheran/
LOCATION:IL
CATEGORIES:Liederstube
END:VEVENT
BEGIN:VEVENT
DTSTART;TZID=America/Chicago:20181012T180000
DTEND;TZID=America/Chicago:20181012T210000
DTSTAMP:20260424T123749
CREATED:20180908T030844Z
LAST-MODIFIED:20181104T225520Z
UID:54924-1539367200-1539378000@eugeniacheng.com
SUMMARY:Liederstube\, Chicago
DESCRIPTION:more info soon!
URL:https://eugeniacheng.com/event/liederstube-chicago-3/
LOCATION:Liederstube\, 410 S Michigan Avenue\, #721\, Chicago\, IL\, 60603\, United States
CATEGORIES:Liederstube
END:VEVENT
BEGIN:VEVENT
DTSTART;TZID=Europe/London:20181026T180000
DTEND;TZID=Europe/London:20181026T210000
DTSTAMP:20260424T123749
CREATED:20180908T032016Z
LAST-MODIFIED:20180908T032016Z
UID:54931-1540576800-1540587600@eugeniacheng.com
SUMMARY:Liederstube\, London
DESCRIPTION:seating limited\, email for more information
URL:https://eugeniacheng.com/event/liederstube-london/
LOCATION:IL
CATEGORIES:Liederstube
END:VEVENT
END:VCALENDAR