BEGIN:VCALENDAR
VERSION:2.0
PRODID:-//Eugenia Cheng - ECPv6.2.0.1//NONSGML v1.0//EN
CALSCALE:GREGORIAN
METHOD:PUBLISH
X-WR-CALNAME:Eugenia Cheng
X-ORIGINAL-URL:https://eugeniacheng.com
X-WR-CALDESC:Events for Eugenia Cheng
REFRESH-INTERVAL;VALUE=DURATION:PT1H
X-Robots-Tag:noindex
X-PUBLISHED-TTL:PT1H
BEGIN:VTIMEZONE
TZID:America/Chicago
BEGIN:DAYLIGHT
TZOFFSETFROM:-0600
TZOFFSETTO:-0500
TZNAME:CDT
DTSTART:20180311T080000
END:DAYLIGHT
BEGIN:STANDARD
TZOFFSETFROM:-0500
TZOFFSETTO:-0600
TZNAME:CST
DTSTART:20181104T070000
END:STANDARD
TZID:Australia/Sydney
BEGIN:STANDARD
TZOFFSETFROM:+1100
TZOFFSETTO:+1000
TZNAME:AEST
DTSTART:20180331T160000
END:STANDARD
BEGIN:DAYLIGHT
TZOFFSETFROM:+1000
TZOFFSETTO:+1100
TZNAME:AEDT
DTSTART:20181006T160000
END:DAYLIGHT
END:VTIMEZONE
BEGIN:VEVENT
DTSTART;TZID=America/Chicago:20180511T180000
DTEND;TZID=America/Chicago:20180511T210000
DTSTAMP:20260424T203012
CREATED:20180210T164041Z
LAST-MODIFIED:20180210T164041Z
UID:54762-1526061600-1526072400@eugeniacheng.com
SUMMARY:May Liederstube
DESCRIPTION:Bring your favourite Lieder and art songs to sing with Eugenia Cheng at the piano or just come along and have a drink and enjoy classical music in an intimate\, informal environment. All are welcome\, especially children.
URL:https://eugeniacheng.com/event/may-liederstube/
LOCATION:Liederstube\, 410 S Michigan Avenue\, #721\, Chicago\, IL\, 60603\, United States
CATEGORIES:Liederstube
END:VEVENT
BEGIN:VEVENT
DTSTART;TZID=Australia/Sydney:20180525T180000
DTEND;TZID=Australia/Sydney:20180525T210000
DTSTAMP:20260424T203012
CREATED:20180516T175744Z
LAST-MODIFIED:20180516T175744Z
UID:54794-1527271200-1527282000@eugeniacheng.com
SUMMARY:Liederstube\, Sydney
DESCRIPTION:
URL:https://eugeniacheng.com/event/liederstube-sydney/
LOCATION:Master Piano Institute\, Suite10\, 301 Castlereagh StreetAustralia 2000\, Sydney\, Australia
CATEGORIES:Liederstube
END:VEVENT
END:VCALENDAR