BEGIN:VCALENDAR
VERSION:2.0
PRODID:-//Eugenia Cheng - ECPv6.2.0.1//NONSGML v1.0//EN
CALSCALE:GREGORIAN
METHOD:PUBLISH
X-ORIGINAL-URL:https://eugeniacheng.com
X-WR-CALDESC:Events for Eugenia Cheng
REFRESH-INTERVAL;VALUE=DURATION:PT1H
X-Robots-Tag:noindex
X-PUBLISHED-TTL:PT1H
BEGIN:VTIMEZONE
TZID:UTC
BEGIN:STANDARD
TZOFFSETFROM:+0000
TZOFFSETTO:+0000
TZNAME:UTC
DTSTART:20170101T000000
END:STANDARD
END:VTIMEZONE
BEGIN:VEVENT
DTSTART;TZID=UTC:20170714T190000
DTEND;TZID=UTC:20170714T210000
DTSTAMP:20260425T121130
CREATED:20170623T193107Z
LAST-MODIFIED:20170623T193107Z
UID:54626-1500058800-1500066000@eugeniacheng.com
SUMMARY:July Liederstube
DESCRIPTION:
URL:https://eugeniacheng.com/event/july-liederstube/
LOCATION:Liederstube\, 410 S Michigan Avenue\, #721\, Chicago\, IL\, 60603\, United States
CATEGORIES:Liederstube
END:VEVENT
END:VCALENDAR