BEGIN:VCALENDAR
VERSION:2.0
PRODID:-//Eugenia Cheng - ECPv6.2.0.1//NONSGML v1.0//EN
CALSCALE:GREGORIAN
METHOD:PUBLISH
X-ORIGINAL-URL:https://eugeniacheng.com
X-WR-CALDESC:Events for Eugenia Cheng
REFRESH-INTERVAL;VALUE=DURATION:PT1H
X-Robots-Tag:noindex
X-PUBLISHED-TTL:PT1H
BEGIN:VTIMEZONE
TZID:UTC
BEGIN:STANDARD
TZOFFSETFROM:+0000
TZOFFSETTO:+0000
TZNAME:UTC
DTSTART:20170101T000000
END:STANDARD
END:VTIMEZONE
BEGIN:VEVENT
DTSTART;TZID=UTC:20170609T180000
DTEND;TZID=UTC:20170609T210000
DTSTAMP:20260425T133836
CREATED:20170623T192705Z
LAST-MODIFIED:20170623T192705Z
UID:54624-1497031200-1497042000@eugeniacheng.com
SUMMARY:June Liederstube\, Chicago
DESCRIPTION:
URL:https://eugeniacheng.com/event/june-liederstube-chicago/
LOCATION:IL
CATEGORIES:Liederstube
END:VEVENT
END:VCALENDAR