BEGIN:VCALENDAR
VERSION:2.0
PRODID:-//Eugenia Cheng - ECPv6.2.0.1//NONSGML v1.0//EN
CALSCALE:GREGORIAN
METHOD:PUBLISH
X-ORIGINAL-URL:https://eugeniacheng.com
X-WR-CALDESC:Events for Eugenia Cheng
REFRESH-INTERVAL;VALUE=DURATION:PT1H
X-Robots-Tag:noindex
X-PUBLISHED-TTL:PT1H
BEGIN:VTIMEZONE
TZID:America/Chicago
BEGIN:DAYLIGHT
TZOFFSETFROM:-0600
TZOFFSETTO:-0500
TZNAME:CDT
DTSTART:20230312T080000
END:DAYLIGHT
BEGIN:STANDARD
TZOFFSETFROM:-0500
TZOFFSETTO:-0600
TZNAME:CST
DTSTART:20231105T070000
END:STANDARD
END:VTIMEZONE
BEGIN:VEVENT
DTSTART;TZID=America/Chicago:20230831T183000
DTEND;TZID=America/Chicago:20230831T200000
DTSTAMP:20260422T225512
CREATED:20230814T153510Z
LAST-MODIFIED:20230816T030210Z
UID:61920-1693506600-1693512000@eugeniacheng.com
SUMMARY:"Is Math Real?" Book Launch
DESCRIPTION:Anyone in or around Chicago is invited to join me for the launch of my eighth (!) book:\n\n“Is Math Real? How simple questions lead us to mathematics’ deepest truths”\n\nThis will be at the wonderful family-run bookstore Sandmeyer’s\, on Thursday August 31\, 6:30pm to 8pm.\nEveryone is welcome! You can pop in or stay for the whole time. I will say a few words at around 7pm. Please feel free to tell anyone who might be interested.\nAfterwards we will probably roll across the street to the lovely Printer’s Row Wine Shop.\n\nTo help with planning please register (free) here or RSVP to the Facebook event here.\n\nhttps://sandmeyersbookstore.com/\nhttps://www.printersrowwine.com/
URL:https://eugeniacheng.com/event/is-math-real-book-launch/
LOCATION:Sandmeyer’s Bookstore\, 714 S Dearborn St\, Chicago\, IL\, 60605\, United States
CATEGORIES:Other,Book signing
END:VEVENT
END:VCALENDAR